BEGIN:VCALENDAR
VERSION:2.0
PRODID:-//ChamberMaster//Event Calendar 2.0//EN
METHOD:PUBLISH
X-PUBLISHED-TTL:P3D
REFRESH-INTERVAL:P3D
CALSCALE:GREGORIAN
BEGIN:VEVENT
DTSTART:20260526T180000Z
DTEND:20260526T193000Z
X-MICROSOFT-CDO-ALLDAYEVENT:FALSE
SUMMARY:Free Digital Literacy Workshop - Emails\, Social Media\, Apps and more
DESCRIPTION:Join United Way of Greater Nashua at the YMCA for an easy\, beginner-friendly workshop on Setting Up Accounts: Emails\, Social Media\, Apps and More\n\n\n\nAs part of our Digital Literacy series\, learn how to create and manage online accounts\, choose strong passwords\, and adjust basic privacy and security settings.\n\n\n\nTuesday\, May 26\, 2026\, at 2 pm - 3:30 pm\n\nYMCA of Greater Nashua\, 24 Stadium Drive\, Nashua\n\nFree to attend\n\nRegister Here \n\n\n\n**How to Register and Learn More**\n\n\n\nAll workshops are free and open to everyone. We ask that you register in advance to reserve your spot.\n\n\n\nSign up for Digital Money Management and see what's coming next at:\n\nhttps://unitedwaynashua.org/digital-literacy/\n\n\n\nIf you have any questions\, email info@unitedwaynashua.org or call (603) 882-4011.
X-ALT-DESC;FMTTYPE=text/html:Join United Way of Greater Nashua at the YMCA for an easy\, beginner-friendly workshop on <b>Setting Up Accounts: Emails\, Social Media\, Apps and More</b><br />\n<br />\nAs part of our&nbsp\;<em>Digital Literacy</em>&nbsp\;series\, learn how to create and manage online accounts\, choose strong passwords\, and adjust basic privacy and security settings.<br />\n<br />\n<strong>Tuesday\, May 26\, 2026\, at 2 pm - 3:30 pm</strong><br />\nYMCA of Greater Nashua\, 24 Stadium Drive\, Nashua<br />\nFree to attend<br />\n<a href="https://lp.constantcontactpages.com/ev/reg/rx6a3mf" target="_blank"><strong>Register&nbsp\;Here&nbsp\;</strong></a><br />\n<br />\n<strong>**How to Register and Learn More**</strong><br />\n<br />\nAll workshops are free and open to everyone. We ask that you register in advance to reserve your spot.<br />\n<br />\nSign up for&nbsp\;Digital Money Management and see what&rsquo\;s coming next at:<br />\nhttps://unitedwaynashua.org/digital-literacy/<br />\n<br />\nIf you have any questions\, email&nbsp\;info@unitedwaynashua.org&nbsp\;or call (603) 882-4011.
LOCATION:YMCA of Greater Nashua 24 Stadium Drive Nashua\, NH 03062
UID:e.3130.3873
SEQUENCE:3
DTSTAMP:20260423T201552Z
URL:https://www.hudsonchamber.com/events/details/free-digital-literacy-workshop-emails-social-media-apps-and-more-3873
END:VEVENT

END:VCALENDAR
